BEGIN:VCALENDAR
VERSION:2.0
PRODID:-//Learning Forward - ECPv6.15.20//NONSGML v1.0//EN
CALSCALE:GREGORIAN
METHOD:PUBLISH
X-WR-CALNAME:Learning Forward
X-ORIGINAL-URL:https://learningforward.org
X-WR-CALDESC:Events for Learning Forward
REFRESH-INTERVAL;VALUE=DURATION:PT1H
X-Robots-Tag:noindex
X-PUBLISHED-TTL:PT1H
BEGIN:VTIMEZONE
TZID:America/New_York
BEGIN:DAYLIGHT
TZOFFSETFROM:-0500
TZOFFSETTO:-0400
TZNAME:EDT
DTSTART:20250309T070000
END:DAYLIGHT
BEGIN:STANDARD
TZOFFSETFROM:-0400
TZOFFSETTO:-0500
TZNAME:EST
DTSTART:20251102T060000
END:STANDARD
BEGIN:DAYLIGHT
TZOFFSETFROM:-0500
TZOFFSETTO:-0400
TZNAME:EDT
DTSTART:20260308T070000
END:DAYLIGHT
BEGIN:STANDARD
TZOFFSETFROM:-0400
TZOFFSETTO:-0500
TZNAME:EST
DTSTART:20261101T060000
END:STANDARD
BEGIN:DAYLIGHT
TZOFFSETFROM:-0500
TZOFFSETTO:-0400
TZNAME:EDT
DTSTART:20270314T070000
END:DAYLIGHT
BEGIN:STANDARD
TZOFFSETFROM:-0400
TZOFFSETTO:-0500
TZNAME:EST
DTSTART:20271107T060000
END:STANDARD
END:VTIMEZONE
BEGIN:VEVENT
DTSTART;TZID=America/New_York:20260429T080000
DTEND;TZID=America/New_York:20260430T170000
DTSTAMP:20260421T035843
CREATED:20251217T003341Z
LAST-MODIFIED:20251217T003409Z
UID:10001449-1777449600-1777568400@learningforward.org
SUMMARY:Curriculum-Based Professional Learning Symposium
DESCRIPTION:
URL:https://learningforward.org/event/curriculum-based-professional-learning-symposium/
END:VEVENT
BEGIN:VEVENT
DTSTART;TZID=America/New_York:20260430T120000
DTEND;TZID=America/New_York:20260430T150000
DTSTAMP:20260421T035843
CREATED:20260330T182204Z
LAST-MODIFIED:20260330T183459Z
UID:10001453-1777550400-1777561200@learningforward.org
SUMMARY:Online Learning Studio: Supercharge Your Adult Learning!
DESCRIPTION:
URL:https://learningforward.org/event/supercharge-your-adult-learning/
CATEGORIES:Public
END:VEVENT
END:VCALENDAR